Workbook
Name _gjdgxs: 'Quality metrics'!#REF!

Sheet Instructions
A10: Support Services Assessment Tool
A12: This tool was originally designed by AdoptUSKids to help child welfare system administrators strengthen support services for foster, adoptive, and kinship families through a process of assessing the existing service array for both quality and accessibility. The goal is to identify areas of strength, as well as gaps that need to be addressed. The Quality Improvement Center for Adoption and Guardianship Support and Preservation (QIC-AG) adapted the tool for use with its partner sites. The modification made to the tool was to help sites organize services being rated into the QIC-AG Continuum of Services Intervals.
A15: The original assessment tool is best understood when reviewed alongside its companion document, Guide to the AdoptUSKids Support Services Assessment Tool: Instructions and Considerations. The guide is available at adoptuskids.org/for-professionals. On page 15 of this guide, you will find a legend that defines the metrics, and scales used in this tool.
A17: Quick reference to using this tool:
A18: 1) Determine services that are provided in your jurisdiction (yes/no)
A19: 2) Rate all provided services along quality metrics (See Quality metrics sheet), using the provided scale (1 = poor, 2 = fair, 3 = good, 4 = excellent)
A20: 3) Continue to rate all provided services along accessibility metrics (See Accessibility metrics sheet) using the same scale
A21: 4) The average ratings across both quality and accessibility metrics can be seen in the "your results" sheet
A22: 5) Use the sheet labeled "your results charted" to understand your results in charts/graphs. This tool automatically compiles your results into a four-quadrant matrix model within this sheet.
A23: We encourage you to adjust this tool to the needs of your system by adding additional services (rows), additional metrics (columns), and additional charts and graphs to better understand your results.
A27: AdoptUSKids is operated by the Adoption Exchange Association and is made possible by grant number 90CO113 from the Children’s Bureau. The contents of this resource are solely the responsibility of the Adoption Exchange Association and do not necessarily represent the official views of the Children’s Bureau, ACYF, ACF, or HHS.
A28: Funded through the Department of Health and Human Services, Administration for Children and Families, Children's Bureau, Grant #90CO1122-01-00. The contents of this presentation do not necessarily reflect the views or policies of the funders, nor does mention of trade names, commercial products or organizations imply endorsement by the U.S. Department of Health and Human Services. This information is in the public domain. Readers are encouraged to copy and share it, but please credit Spaulding for Children.
A29: Published by AdoptUSKids July 2019, Adapted by QIC-AG January 2020

Sheet Quality metrics
A1: Intervals | B1: Provided (yes/no) | C1: Adoption/ permanency-competent | D1: Trauma-informed | E1: Designed with family and youth input and feedback | F1: Family-focused | G1: Outcome-evaluated/ evidence-based (with positive results) | H1: [Other items identified by the child welfare system] | I1: [Other items identified by the child welfare system] | J1: Average
A2: Scale: 1=Poor; 2=Fair; 3=Good; 4=Excellent
A3: UNIVERSAL
J4: =IFERROR(AVERAGE(C4:I4),0) -> 0
J5: =IFERROR(AVERAGE(C5:I5),0) -> 0
J6: =IFERROR(AVERAGE(C6:I6),0) -> 0
J7: =IFERROR(AVERAGE(C7:I7),0) -> 0
J8: =IFERROR(AVERAGE(C8:I8),0) -> 0
J9: =IFERROR(AVERAGE(C9:I9),0) -> 0
J10: =IFERROR(AVERAGE(C10:I10),0) -> 0
J11: =IFERROR(AVERAGE(C11:I11),0) -> 0
J12: =IFERROR(AVERAGE(C12:I12),0) -> 0
J13: =IFERROR(AVERAGE(C13:I13),0) -> 0
J14: =IFERROR(AVERAGE(C14:I14),0) -> 0
J15: =IFERROR(AVERAGE(C15:I15),0) -> 0
... J19: =IFERROR(AVERAGE(C19:I19),0) -> 0
A20: Average universal | C20: =IFERROR(AVERAGEIF(C4:C19,"<>0"),0) -> 0 | D20: =IFERROR(AVERAGEIF(D4:D19,"<>0"),0) -> 0 | E20: =IFERROR(AVERAGEIF(E4:E19,"<>0"),0) -> 0 | F20: =IFERROR(AVERAGEIF(F4:F19,"<>0"),0) -> 0 | G20: =IFERROR(AVERAGEIF(G4:G19,"<>0"),0) -> 0 | H20: =IFERROR(AVERAGEIF(H4:H19,"<>0"),0) -> 0 | I20: =IFERROR(AVERAGE(I4:I19),0) -> 0 | J20: =IFERROR(AVERAGEIF(C20:I20,"<>0"),0) -> 0
A22: SELECTIVE
J23: =IFERROR(AVERAGE(C23:I23),0) -> 0
J24: =IFERROR(AVERAGE(C24:I24),0) -> 0
J25: =IFERROR(AVERAGE(C25:I25),0) -> 0
J26: =IFERROR(AVERAGE(C26:I26),0) -> 0
J27: =IFERROR(AVERAGE(C27:I27),0) -> 0
A28: Average selective | C28: =IFERROR(AVERAGEIF(C23:C27,"<>0"),0) -> 0 | D28: =IFERROR(AVERAGEIF(D23:D27,"<>0"),0) -> 0 | E28: =IFERROR(AVERAGEIF(E23:E27,"<>0"),0) -> 0 | F28: =IFERROR(AVERAGEIF(F23:F27,"<>0"),0) -> 0 | G28: =IFERROR(AVERAGEIF(G23:G27,"<>0"),0) -> 0 | H28: =IFERROR(AVERAGE(H23:H27),0) -> 0 | I28: =IFERROR(AVERAGE(I23:I27),0) -> 0 | J28: =IFERROR(AVERAGEIF(C28:I28,"<>0"),0) -> 0
A30: INDICATED
J31: =IFERROR(AVERAGE(C31:I31),0) -> 0
J32: =IFERROR(AVERAGE(C32:I32),0) -> 0
J33: =IFERROR(AVERAGE(C33:I33),0) -> 0
J34: =IFERROR(AVERAGE(C34:I34),0) -> 0
J35: =IFERROR(AVERAGE(C35:I35),0) -> 0
J36: =IFERROR(AVERAGE(C36:I36),0) -> 0
J37: =IFERROR(AVERAGE(C37:I37),0) -> 0
J38: =IFERROR(AVERAGE(C38:I38),0) -> 0
J39: =IFERROR(AVERAGE(C39:I39),0) -> 0
J40: =IFERROR(AVERAGE(C40:I40),0) -> 0
J41: =IFERROR(AVERAGE(C41:I41),0) -> 0
J42: =IFERROR(AVERAGE(C42:I42),0) -> 0
... J53: =IFERROR(AVERAGE(C53:I53),0) -> 0
A54: Average indicated | C54: =IFERROR(AVERAGEIF(C31:C53,"<>0"),0) -> 0 | D54: =IFERROR(AVERAGEIF(D31:D53,"<>0"),0) -> 0 | E54: =IFERROR(AVERAGEIF(E31:E34,"<>0"),0) -> 0 | F54: =IFERROR(AVERAGEIF(F31:F34,"<>0"),0) -> 0 | G54: =IFERROR(AVERAGEIF(G31:G34,"<>0"),0) -> 0 | H54: =IFERROR(AVERAGEIF(H31:H34,"<>0"),0) -> 0 | I54: =IFERROR(AVERAGEIF(I31:I34,"<>0"),0) -> 0 | J54: =IFERROR(AVERAGEIF(C54:I54,"<>0"),0) -> 0
A56: INTENSIVE
J57: =IFERROR(AVERAGE(C57:I57),0) -> 0
J58: =IFERROR(AVERAGE(C58:I58),0) -> 0
J59: =IFERROR(AVERAGE(C59:I59),0) -> 0
J60: =IFERROR(AVERAGE(C60:I60),0) -> 0
J61: =IFERROR(AVERAGE(C61:I61),0) -> 0
J62: =IFERROR(AVERAGE(C62:I62),0) -> 0
J63: =IFERROR(AVERAGE(C63:I63),0) -> 0
J64: =IFERROR(AVERAGE(C64:I64),0) -> 0
J65: =IFERROR(AVERAGE(C65:I65),0) -> 0
J66: =IFERROR(AVERAGE(C66:I66),0) -> 0
J67: =IFERROR(AVERAGE(C67:I67),0) -> 0
J68: =IFERROR(AVERAGE(C68:I68),0) -> 0
... J71: =IFERROR(AVERAGE(C71:I71),0) -> 0
A72: Average intensive | C72: =IFERROR(AVERAGEIF(C57:C71,"<>0"),0) -> 0 | D72: =IFERROR(AVERAGEIF(D57:D71,"<>0"),0) -> 0 | E72: =IFERROR(AVERAGEIF(E57:E71,"<>0"),0) -> 0 | F72: =IFERROR(AVERAGEIF(F57:F71,"<>0"),0) -> 0 | G72: =IFERROR(AVERAGEIF(G57:G71,"<>0"),0) -> 0 | H72: =IFERROR(AVERAGEIF(H57:H71,"<>0"),0) -> 0 | I72: =IFERROR(AVERAGEIF(I57:I71,"<>0"),0) -> 0 | J72: =IFERROR(AVERAGEIF(C72:I72,"<>0"),0) -> 0

Sheet Accessibility metrics
A1: Intervals | B1: Provided (yes/no) | C1: Broad eligibility | D1: Financially accessible | E1: Geographically accessible | F1: Well known/publicized | G1: Rapid availability | H1: Ongoing availability/sustainability | I1: Culturally relevant and accessible | J1: [Other items identified by the child welfare system] | K1: [Other items identified by the child welfare system] | L1: Average
A2: Scale: 1=Poor; 2=Fair; 3=Good; 4=Excellent
A3: UNIVERAL
A4: ='Quality metrics'!A4 | L4: =IFERROR(AVERAGE(C4:K4),0) -> 0
A5: ='Quality metrics'!A5 | L5: =IFERROR(AVERAGE(C5:K5),0) -> 0
A6: ='Quality metrics'!A6 | L6: =IFERROR(AVERAGE(C6:K6),0) -> 0
A7: ='Quality metrics'!A7 | L7: =IFERROR(AVERAGE(C7:K7),0) -> 0
A8: ='Quality metrics'!A8 | L8: =IFERROR(AVERAGE(C8:K8),0) -> 0
A9: ='Quality metrics'!A9 | L9: =IFERROR(AVERAGE(C9:K9),0) -> 0
A10: ='Quality metrics'!A10 | L10: =IFERROR(AVERAGE(C10:K10),0) -> 0
A11: ='Quality metrics'!A11 | L11: =IFERROR(AVERAGE(C11:K11),0) -> 0
A12: ='Quality metrics'!A12 | L12: =IFERROR(AVERAGE(C12:K12),0) -> 0
A13: ='Quality metrics'!A13 | L13: =IFERROR(AVERAGE(C13:K13),0) -> 0
A14: ='Quality metrics'!A14 | L14: =IFERROR(AVERAGE(C14:K14),0) -> 0
A15: ='Quality metrics'!A15 | L15: =IFERROR(AVERAGE(C15:K15),0) -> 0
... A19: ='Quality metrics'!A19 | L19: =IFERROR(AVERAGE(C19:K19),0) -> 0
A20: Average univeral | C20: =IFERROR(AVERAGEIF(C4:C19,"<>0"),0) -> 0 | D20: =IFERROR(AVERAGEIF(D4:D19,"<>0"),0) -> 0 | E20: =IFERROR(AVERAGEIF(E4:E19,"<>0"),0) -> 0 | F20: =IFERROR(AVERAGEIF(F4:F19,"<>0"),0) -> 0 | G20: =IFERROR(AVERAGEIF(G4:G19,"<>0"),0) -> 0 | H20: =IFERROR(AVERAGEIF(H4:H19,"<>0"),0) -> 0 | I20: =IFERROR(AVERAGE(I4:I19),0) -> 0 | J20: =IFERROR(AVERAGE(J4:J19),0) -> 0 | K20: =IFERROR(AVERAGE(K4:K19),0) -> 0 | L20: =IFERROR(AVERAGEIF(C20:K20,"<>0"),0) -> 0
A22: SELECTIVE
A23: ='Quality metrics'!A23 | L23: =IFERROR(AVERAGE(C23:K23),0) -> 0
A24: ='Quality metrics'!A24 | L24: =IFERROR(AVERAGE(C24:K24),0) -> 0
A25: ='Quality metrics'!A25 | L25: =IFERROR(AVERAGE(C25:K25),0) -> 0
A26: ='Quality metrics'!A26 | L26: =IFERROR(AVERAGE(C26:K26),0) -> 0
A27: ='Quality metrics'!A27 | L27: =IFERROR(AVERAGE(C27:K27),0) -> 0
A28: Average selective | C28: =IFERROR(AVERAGEIF(C23:C27,"<>0"),0) -> 0 | D28: =IFERROR(AVERAGEIF(D23:D27,"<>0"),0) -> 0 | E28: =IFERROR(AVERAGEIF(E23:E27,"<>0"),0) -> 0 | F28: =IFERROR(AVERAGEIF(F23:F27,"<>0"),0) -> 0 | G28: =IFERROR(AVERAGEIF(G23:G27,"<>0"),0) -> 0 | H28: =IFERROR(AVERAGE(H23:H27),0) -> 0 | I28: =IFERROR(AVERAGE(I23:I27),0) -> 0 | J28: =IFERROR(AVERAGE(J23:J27),0) -> 0 | K28: =IFERROR(AVERAGE(K23:K27),0) -> 0 | L28: =IFERROR(AVERAGEIF(C28:K28,"<>0"),0) -> 0
A30: INDICATED
A31: ='Quality metrics'!A31 | L31: =IFERROR(AVERAGE(C31:K31),0) -> 0
A32: ='Quality metrics'!A32 | L32: =IFERROR(AVERAGE(C32:K32),0) -> 0
A33: ='Quality metrics'!A33 | L33: =IFERROR(AVERAGE(C33:K33),0) -> 0
A34: ='Quality metrics'!A34 | L34: =IFERROR(AVERAGE(C34:K34),0) -> 0
A35: ='Quality metrics'!A35 | L35: =IFERROR(AVERAGE(C35:K35),0) -> 0
A36: ='Quality metrics'!A36 | L36: =IFERROR(AVERAGE(C36:K36),0) -> 0
A37: ='Quality metrics'!A37 | L37: =IFERROR(AVERAGE(C37:K37),0) -> 0
A38: ='Quality metrics'!A38 | L38: =IFERROR(AVERAGE(C38:K38),0) -> 0
A39: ='Quality metrics'!A39 | L39: =IFERROR(AVERAGE(C39:K39),0) -> 0
A40: ='Quality metrics'!A40 | L40: =IFERROR(AVERAGE(C40:K40),0) -> 0
A41: ='Quality metrics'!A41 | L41: =IFERROR(AVERAGE(C41:K41),0) -> 0
A42: ='Quality metrics'!A42 | L42: =IFERROR(AVERAGE(C42:K42),0) -> 0
... A53: ='Quality metrics'!A53 | L53: =IFERROR(AVERAGE(C53:K53),0) -> 0
A54: Average indicated | C54: =IFERROR(AVERAGEIF(C31:C53,"<>0"),0) -> 0 | D54: =IFERROR(AVERAGEIF(D31:D53,"<>0"),0) -> 0 | E54: =IFERROR(AVERAGEIF(E31:E53,"<>0"),0) -> 0 | F54: =IFERROR(AVERAGEIF(F31:F53,"<>0"),0) -> 0 | G54: =IFERROR(AVERAGEIF(G31:G53,"<>0"),0) -> 0 | H54: =IFERROR(AVERAGEIF(H31:H53,"<>0"),0) -> 0 | I54: =IFERROR(AVERAGE(I31:I53),0) -> 0 | J54: =IFERROR(AVERAGE(J31:J53),0) -> 0 | K54: =IFERROR(AVERAGE(K31:K53),0) -> 0 | L54: =IFERROR(AVERAGEIF(C54:K54,"<>0"),0) -> 0
A56: INTENSIVE
A57: ='Quality metrics'!A57 | L57: =IFERROR(AVERAGE(C57:K57),0) -> 0
A58: ='Quality metrics'!A58 | L58: =IFERROR(AVERAGE(C58:K58),0) -> 0
A59: ='Quality metrics'!A59 | L59: =IFERROR(AVERAGE(C59:K59),0) -> 0
A60: ='Quality metrics'!A60 | L60: =IFERROR(AVERAGE(C60:K60),0) -> 0
A61: ='Quality metrics'!A61 | L61: =IFERROR(AVERAGE(C61:K61),0) -> 0
A62: ='Quality metrics'!A62 | L62: =IFERROR(AVERAGE(C62:K62),0) -> 0
A63: ='Quality metrics'!A63 | L63: =IFERROR(AVERAGE(C63:K63),0) -> 0
A64: ='Quality metrics'!A64 | L64: =IFERROR(AVERAGE(C64:K64),0) -> 0
A65: ='Quality metrics'!A65 | L65: =IFERROR(AVERAGE(C65:K65),0) -> 0
A66: ='Quality metrics'!A66 | L66: =IFERROR(AVERAGE(C66:K66),0) -> 0
A67: ='Quality metrics'!A67 | L67: =IFERROR(AVERAGE(C67:K67),0) -> 0
A68: ='Quality metrics'!A68 | L68: =IFERROR(AVERAGE(C68:K68),0) -> 0
... A71: ='Quality metrics'!A71 | L71: =IFERROR(AVERAGE(C71:K71),0) -> 0
A72: Average intensive | C72: =IFERROR(AVERAGEIF(C57:C71,"<>0"),0) -> 0 | D72: =IFERROR(AVERAGEIF(D57:D71,"<>0"),0) -> 0 | E72: =IFERROR(AVERAGEIF(E57:E71,"<>0"),0) -> 0 | F72: =IFERROR(AVERAGEIF(F57:F71,"<>0"),0) -> 0 | G72: =IFERROR(AVERAGEIF(G57:G71,"<>0"),0) -> 0 | H72: =IFERROR(AVERAGEIF(H57:H71,"<>0"),0) -> 0 | I72: =IFERROR(AVERAGE(I57:I71),0) -> 0 | J72: =IFERROR(AVERAGE(J57:J71),0) -> 0 | K72: =IFERROR(AVERAGE(K57:K71),0) -> 0 | L72: =IFERROR(AVERAGEIF(C72:K72,"<>0"),0) -> 0

Sheet Your results
A1: Interval | B1: Average quality | C1: Average accessibility
A2: Scale: 1=Poor; 2=Fair; 3=Good; 4=Excellent
A3: Universal
A4: ='Quality metrics'!A4 | B4: ='Quality metrics'!J4 -> 0 | C4: ='Accessibility metrics'!L4 -> 0
A5: ='Quality metrics'!A5 | B5: ='Quality metrics'!J5 -> 0 | C5: ='Accessibility metrics'!L5 -> 0
A6: ='Quality metrics'!A6 | B6: ='Quality metrics'!J6 -> 0 | C6: ='Accessibility metrics'!L6 -> 0
A7: ='Quality metrics'!A7 | B7: ='Quality metrics'!J7 -> 0 | C7: ='Accessibility metrics'!L7 -> 0
A8: ='Quality metrics'!A8 | B8: ='Quality metrics'!J8 -> 0 | C8: ='Accessibility metrics'!L8 -> 0
A9: ='Quality metrics'!A9 | B9: ='Quality metrics'!J9 -> 0 | C9: ='Accessibility metrics'!L9 -> 0
A10: ='Quality metrics'!A10 | B10: ='Quality metrics'!J10 -> 0 | C10: ='Accessibility metrics'!L10 -> 0
A11: ='Quality metrics'!A11 | B11: ='Quality metrics'!J11 -> 0 | C11: ='Accessibility metrics'!L11 -> 0
A12: ='Quality metrics'!A12 | B12: ='Quality metrics'!J12 -> 0 | C12: ='Accessibility metrics'!L12 -> 0
A13: ='Quality metrics'!A13 | B13: ='Quality metrics'!J13 -> 0 | C13: ='Accessibility metrics'!L13 -> 0
A14: ='Quality metrics'!A14 | B14: ='Quality metrics'!J14 -> 0 | C14: ='Accessibility metrics'!L14 -> 0
A15: ='Quality metrics'!A15 | B15: ='Quality metrics'!J15 -> 0 | C15: ='Accessibility metrics'!L15 -> 0
... A19: ='Quality metrics'!A19 | B19: ='Quality metrics'!J19 -> 0 | C19: ='Accessibility metrics'!L19 -> 0
A20: Average Universal | B20: ='Quality metrics'!J20 -> 0 | C20: ='Accessibility metrics'!L20 -> 0
A22: Selective
A23: ='Quality metrics'!A23 | B23: ='Quality metrics'!J23 -> 0 | C23: ='Accessibility metrics'!L23 -> 0
A24: ='Quality metrics'!A24 | B24: ='Quality metrics'!J24 -> 0 | C24: ='Accessibility metrics'!L24 -> 0
A25: ='Quality metrics'!A25 | B25: ='Quality metrics'!J25 -> 0 | C25: ='Accessibility metrics'!L25 -> 0
A26: ='Quality metrics'!A26 | B26: ='Quality metrics'!J26 -> 0 | C26: ='Accessibility metrics'!L26 -> 0
A27: ='Quality metrics'!A27 | B27: ='Quality metrics'!J27 -> 0 | C27: ='Accessibility metrics'!L27 -> 0
A28: Average Selective | B28: ='Quality metrics'!J28 -> 0 | C28: ='Accessibility metrics'!L28 -> 0
A30: Indicated
A31: ='Quality metrics'!A31 | B31: ='Quality metrics'!J31 -> 0 | C31: ='Accessibility metrics'!L31 -> 0
A32: ='Quality metrics'!A32 | B32: ='Quality metrics'!J32 -> 0 | C32: ='Accessibility metrics'!L32 -> 0
A33: ='Quality metrics'!A33 | B33: ='Quality metrics'!J33 -> 0 | C33: ='Accessibility metrics'!L33 -> 0
A34: ='Quality metrics'!A34 | B34: ='Quality metrics'!J34 -> 0 | C34: ='Accessibility metrics'!L34 -> 0
A35: ='Quality metrics'!A35 | B35: ='Quality metrics'!J35 -> 0 | C35: ='Accessibility metrics'!L35 -> 0
A36: ='Quality metrics'!A36 | B36: ='Quality metrics'!J36 -> 0 | C36: ='Accessibility metrics'!L36 -> 0
A37: ='Quality metrics'!A37 | B37: ='Quality metrics'!J37 -> 0 | C37: ='Accessibility metrics'!L37 -> 0
A38: ='Quality metrics'!A38 | B38: ='Quality metrics'!J38 -> 0 | C38: ='Accessibility metrics'!L38 -> 0
A39: ='Quality metrics'!A39 | B39: ='Quality metrics'!J39 -> 0 | C39: ='Accessibility metrics'!L39 -> 0
A40: ='Quality metrics'!A40 | B40: ='Quality metrics'!J40 -> 0 | C40: ='Accessibility metrics'!L40 -> 0
A41: ='Quality metrics'!A41 | B41: ='Quality metrics'!J41 -> 0 | C41: ='Accessibility metrics'!L41 -> 0
A42: ='Quality metrics'!A42 | B42: ='Quality metrics'!J42 -> 0 | C42: ='Accessibility metrics'!L42 -> 0
... A53: ='Quality metrics'!A53 | B53: ='Quality metrics'!J53 -> 0 | C53: ='Accessibility metrics'!L53 -> 0
A54: Average Indicated | B54: ='Quality metrics'!J54 -> 0 | C54: ='Accessibility metrics'!L54 -> 0
A56: Intensive
A57: ='Quality metrics'!A57 | B57: ='Quality metrics'!J57 -> 0 | C57: ='Accessibility metrics'!L57 -> 0
A58: ='Quality metrics'!A58 | B58: ='Quality metrics'!J58 -> 0 | C58: ='Accessibility metrics'!L58 -> 0
A59: ='Quality metrics'!A59 | B59: ='Quality metrics'!J59 -> 0 | C59: ='Accessibility metrics'!L59 -> 0
A60: ='Quality metrics'!A60 | B60: ='Quality metrics'!J60 -> 0 | C60: ='Accessibility metrics'!L60 -> 0
A61: ='Quality metrics'!A61 | B61: ='Quality metrics'!J61 -> 0 | C61: ='Accessibility metrics'!L61 -> 0
A62: ='Quality metrics'!A62 | B62: ='Quality metrics'!J62 -> 0 | C62: ='Accessibility metrics'!L62 -> 0
A63: ='Quality metrics'!A63 | B63: ='Quality metrics'!J63 -> 0 | C63: ='Accessibility metrics'!L63 -> 0
A64: ='Quality metrics'!A64 | B64: ='Quality metrics'!J64 -> 0 | C64: ='Accessibility metrics'!L64 -> 0
A65: ='Quality metrics'!A65 | B65: ='Quality metrics'!J65 -> 0 | C65: ='Accessibility metrics'!L65 -> 0
A66: ='Quality metrics'!A66 | B66: ='Quality metrics'!J66 -> 0 | C66: ='Accessibility metrics'!L66 -> 0
A67: ='Quality metrics'!A67 | B67: ='Quality metrics'!J67 -> 0 | C67: ='Accessibility metrics'!L67 -> 0
A68: ='Quality metrics'!A68 | B68: ='Quality metrics'!J68 -> 0 | C68: ='Accessibility metrics'!L68 -> 0
... A71: ='Quality metrics'!A71 | B71: ='Quality metrics'!J71 -> 0 | C71: ='Accessibility metrics'!L71 -> 0
A72: Average Intensive | B72: ='Quality metrics'!J72 -> 0 | C72: ='Accessibility metrics'!L72 -> 0

Sheet Your results charted
A1: Service | B1: Average Quality | C1: Average Accessibility | G1: Quality | H1: Accessibility | I1: Size | J1: Service category (label)
A2: Universal | B2: ='Quality metrics'!J20 -> 0 | C2: ='Accessibility metrics'!L20 -> 0 | G2: =B2 -> 0 | H2: =C2 -> 0 | I2: 1 | J2: UNIVERSAL | M2: Service Quality and Accessibility Assessment
A3: Selective | B3: ='Quality metrics'!J28 -> 0 | C3: ='Accessibility metrics'!L28 -> 0 | G3: =B3 -> 0 | H3: =C3 -> 0 | I3: 1 | J3: SELECTIVE
A4: Indicated | B4: ='Quality metrics'!J54 -> 0 | C4: ='Accessibility metrics'!L54 -> 0 | G4: =B4 -> 0 | H4: =C4 -> 0 | I4: 1 | J4: INDICATED | V4: Scale:
A5: intensive | B5: ='Quality metrics'!J72 -> 0 | C5: ='Accessibility metrics'!L72 -> 0 | G5: =B5 -> 0 | H5: =C5 -> 0 | I5: 1 | J5: INTENSIVE | V5: 1=Poor
V6: 2=Fair
V7: 3=Good
V8: 4=Excellent
G11: Using this chart
G12: This chart uses the overall average domain ratings of each service category. This corresponds to the following cells within the sheets for both quality and accessibility metrics.
G13: Universal | I13: Cell O8
G14: Selective | I14: Cell O15
G15: Indicated | I15: Cell O23
G16: Intensive | I16: Cell O29
G20: This is one example of a method to understand your results, and you may wish to use other charting/graphing methods to represent your data. For more information, please refer to the Support Services Assessment Tool Guide Instructions and Considerations, available at adoptuskids.org/for-professionals.
